BEGIN:VCALENDAR
VERSION:2.0
PRODID:www.gruene-ravensburg.de
METHOD:PUBLISH
BEGIN:VTIMEZONE
TZID:Europe/Berlin
X-LIC-LOCATION:Europe/Berlin
BEGIN:DAYLIGHT
TZOFFSETFROM:+0100
TZOFFSETTO:+0200
TZNAME:CEST
DTSTART:19700329T020000
RRULE:FREQ=YEARLY;INTERVAL=1;BYDAY=-1SU;BYMONTH=3
END:DAYLIGHT
BEGIN:STANDARD
TZOFFSETFROM:+0200
TZOFFSETTO:+0100
TZNAME:CET
DTSTART:19701025T030000
RRULE:FREQ=YEARLY;INTERVAL=1;BYDAY=-1SU;BYMONTH=10
END:STANDARD
END:VTIMEZONE
BEGIN:VEVENT
UID:593dfe41bbe7eca118de9c38d09ba5d2@www.gruene-ravensburg.de
URL;VALUE=URI:https://www.gruene-ravensburg.de/termine/politische-feierab
 endtour-mit-dem-rad/
LOCATION:Treffpunkt Grünes Büro, Rosenstraße
SUMMARY:Politische Feierabendtour – mit dem Rad
DESCRIPTION;ALTREP="data:text/html,%0A%3Cp%3Ezu%20Hot-Spots%20der%20Radin
 frastruktur%20in%20Ravensburg%3C%2Fp%3E%0A":zu Hot-Spots der Radinfrastru
 ktur in Ravensburg
CLASS:PUBLIC
DTSTART;TZID=Europe/Berlin:20240521T170000
DTEND;TZID=Europe/Berlin:20240521T200000
DTSTAMP:20260422T103308
END:VEVENT
END:VCALENDAR