BEGIN:VCALENDAR
VERSION:2.0
PRODID:www.gruene-ravensburg.de
METHOD:PUBLISH
BEGIN:VTIMEZONE
TZID:Europe/Berlin
X-LIC-LOCATION:Europe/Berlin
BEGIN:DAYLIGHT
TZOFFSETFROM:+0100
TZOFFSETTO:+0200
TZNAME:CEST
DTSTART:19700329T020000
RRULE:FREQ=YEARLY;INTERVAL=1;BYDAY=-1SU;BYMONTH=3
END:DAYLIGHT
BEGIN:STANDARD
TZOFFSETFROM:+0200
TZOFFSETTO:+0100
TZNAME:CET
DTSTART:19701025T030000
RRULE:FREQ=YEARLY;INTERVAL=1;BYDAY=-1SU;BYMONTH=10
END:STANDARD
END:VTIMEZONE
BEGIN:VEVENT
UID:7529f8b931fec0d88fe122daba9503c8@www.gruene-ravensburg.de
URL;VALUE=URI:https://www.gruene-ravensburg.de/termine/kreismitgliederver
 sammlung-10/
LOCATION:
SUMMARY:Kreismitgliederversammlung
DESCRIPTION;ALTREP="data:text/html,%0A%3Cp%3EWir%20laden%20alle%20Mitglie
 der%20und%20Interessierte%20zur%20KMV%20ein.%20Wir%20werden%20eine%20Wahl
 nachlese%20mache%20und%20den%20Bundestagswahlkampf%20besprechen.%20%3C%2F
 p%3E%0A%0A%0A%0A%3Cp%3E%3C%2Fp%3E%0A":Wir laden alle Mitglieder und Inter
 essierte zur KMV ein. Wir werden eine Wahlnachlese mache und den Bundesta
 gswahlkampf besprechen.
CLASS:PUBLIC
DTSTART;TZID=Europe/Berlin:20250310T193000
DTEND;TZID=Europe/Berlin:20250310T220000
DTSTAMP:20260420T200927
END:VEVENT
END:VCALENDAR