BEGIN:VCALENDAR
VERSION:2.0
PRODID:www.gruene-ravensburg.de
METHOD:PUBLISH
BEGIN:VTIMEZONE
TZID:Europe/Berlin
X-LIC-LOCATION:Europe/Berlin
BEGIN:DAYLIGHT
TZOFFSETFROM:+0100
TZOFFSETTO:+0200
TZNAME:CEST
DTSTART:19700329T020000
RRULE:FREQ=YEARLY;INTERVAL=1;BYDAY=-1SU;BYMONTH=3
END:DAYLIGHT
BEGIN:STANDARD
TZOFFSETFROM:+0200
TZOFFSETTO:+0100
TZNAME:CET
DTSTART:19701025T030000
RRULE:FREQ=YEARLY;INTERVAL=1;BYDAY=-1SU;BYMONTH=10
END:STANDARD
END:VTIMEZONE
BEGIN:VEVENT
UID:52bdf26e44083603479c48d0e2b09142@www.gruene-ravensburg.de
URL;VALUE=URI:https://www.gruene-ravensburg.de/termine/besuch-der-firma-a
 ndritz-hydro/
LOCATION:Eingang Andritz, Escher-Wyss-Weg 1, Ravensburg
SUMMARY:Besuch der Firma Andritz Hydro
DESCRIPTION;ALTREP="data:text/html,%0A%3Cp%3E%3Cstrong%3Emit%20Gesch%C3%A
 4ftsf%C3%BChrer%20Dr.%20Dominik%20Fust%3C%2Fstrong%3E%3C%2Fp%3E%0A%0A%0A%
 0A%3Cp%3EAndritz%20Hydro%20ist%20einer%20der%20Weltmarktf%C3%BChrer%20bei
 %20Wasserkraftturbinen.%20Gesch%C3%A4ftsf%C3%BChrer%20Dr.%20Dominik%20Fus
 t%20wird%20die%20Firma%20vorstellen%20mit%20Schwerpunkt%20auf%20die%20Ref
 erenzprojekte%20in%20der%20internationalen%20Energiewende%20%28Rolle%20de
 r%20Wasserkraft%2C%20Pumpspeicher%29.%20Welche%20Chancen%20bietet%20die%2
 0Wasserkraft%3F%20Was%20passiert%20international%3F%20Im%20Anschluss%20gi
 bt%20es%20eine%20Werksf%C3%BChrung.%3C%2Fp%3E%0A":mit Geschäftsführer D
 r. Dominik Fust\n\nAndritz Hydro ist einer der Weltmarktführer bei Wasse
 rkraftturbinen. Geschäftsführer Dr. Dominik Fust wird die Firma vorstel
 len mit Schwerpunkt auf die Referenzprojekte in der internationalen Energ
 iewende (Rolle der Wasserkraft\, Pumpspeicher). Welche Chancen bietet die
  Wasserkraft? Was passiert international? Im Anschluss gibt es eine Werks
 führung.
CLASS:PUBLIC
DTSTART;TZID=Europe/Berlin:20230830T170000
DTEND;TZID=Europe/Berlin:20230830T190000
DTSTAMP:20260421T012710
END:VEVENT
END:VCALENDAR